BEGIN:VCALENDAR
VERSION:2.0
PRODID:icalendar-ruby
CALSCALE:GREGORIAN
METHOD:PUBLISH
BEGIN:VEVENT
DTSTAMP:20260424T025505Z
UID:13-959038@cornerstonemcminnville.org
DTSTART:20260802T150000Z
DTEND:20260802T160000Z
CLASS:PUBLIC
CREATED:20260423T213842
DESCRIPTION:Worship Service | AM
LAST-MODIFIED:20260423T213842
LOCATION:49 Golf Club Rd\, McMinnville
SUMMARY:Worship Service | AM
URL;VALUE=URI:https://www.cornerstonemcminnville.org/events/worship-service
 -am/2026-08-02
ATTACH;FILENAME=410695037_763112339181457_6164247598141967045_n.jpg;FMTTYPE
 =image/jpeg:https://dq5pwpg1q8ru0.cloudfront.net/2024/02/12/04/38/26/e2f33
 56a-1a95-4059-890d-62674515914b/410695037_763112339181457_6164247598141967
 045_n.jpg
END:VEVENT
END:VCALENDAR
