BEGIN:VCALENDAR
VERSION:2.0
PRODID:icalendar-ruby
CALSCALE:GREGORIAN
METHOD:PUBLISH
BEGIN:VEVENT
DTSTAMP:20260424T033530Z
UID:44-959596@cornerstonemcminnville.org
DTSTART:20260812T230000Z
DTEND:20260813T000000Z
CLASS:PUBLIC
CREATED:20260423T213844
DESCRIPTION:
LAST-MODIFIED:20260423T213844
LOCATION:49 Golf Club Rd\, McMinnville
SUMMARY:Wednesday Service
URL;VALUE=URI:https://www.cornerstonemcminnville.org/events/wednesday-servi
 ce/2026-08-12
END:VEVENT
END:VCALENDAR
