BEGIN:VCALENDAR
VERSION:2.0
PRODID:icalendar-ruby
CALSCALE:GREGORIAN
METHOD:PUBLISH
BEGIN:VEVENT
DTSTAMP:20260424T010902Z
UID:44-958720@cornerstonemcminnville.org
DTSTART:20260729T230000Z
DTEND:20260730T000000Z
CLASS:PUBLIC
CREATED:20260423T184437
DESCRIPTION:
LAST-MODIFIED:20260423T184437
LOCATION:49 Golf Club Rd\, McMinnville
SUMMARY:Wednesday Service
URL;VALUE=URI:https://www.cornerstonemcminnville.org/events/wednesday-servi
 ce/2026-07-29
END:VEVENT
END:VCALENDAR
