BEGIN:VCALENDAR
VERSION:2.0
PRODID:icalendar-ruby
CALSCALE:GREGORIAN
METHOD:PUBLISH
BEGIN:VEVENT
DTSTAMP:20260424T045535Z
UID:15-959306@cornerstonemcminnville.org
DTSTART:20260816T140000Z
DTEND:20260816T144500Z
CLASS:PUBLIC
CREATED:20260423T213843
DESCRIPTION:Classes for Preschool\, Kids\, Youth\, Young Adults\, Couples\,
  Women and Men.
LAST-MODIFIED:20260423T213843
LOCATION:49 Golf Club Rd\, McMinnville
SUMMARY:Sunday School
URL;VALUE=URI:https://www.cornerstonemcminnville.org/events/sunday-school/2
 026-08-16
ATTACH;FILENAME=419508413_782237737268917_7190509231997493568_n.jpg;FMTTYPE
 =image/jpeg:https://dq5pwpg1q8ru0.cloudfront.net/2024/02/12/04/34/33/c911a
 39b-e5ec-4646-9d95-a9ba760641b6/419508413_782237737268917_7190509231997493
 568_n.jpg
END:VEVENT
END:VCALENDAR
