BEGIN:VCALENDAR
VERSION:2.0
PRODID:icalendar-ruby
CALSCALE:GREGORIAN
METHOD:PUBLISH
BEGIN:VEVENT
DTSTAMP:20260421T140400Z
UID:12-941338@cornerstonemcminnville.org
DTSTART:20260430T230000Z
DTEND:20260501T000000Z
CLASS:PUBLIC
CREATED:20260420T130616
DESCRIPTION:Every last Thursday of each month. at 6pm.
LAST-MODIFIED:20260420T130616
LOCATION:49 Golf Club Rd\, McMinnville
SUMMARY:Men's Meeting
URL;VALUE=URI:https://www.cornerstonemcminnville.org/events/mens-meeting/20
 26-04-30
ATTACH;FILENAME=Men’s meeting.png;FMTTYPE=image/png:https://dq5pwpg1q8ru0
 .cloudfront.net/2024/02/09/04/49/14/da243f69-eac1-452d-a96a-2454960049ff/M
 en%E2%80%99s%20meeting.png
END:VEVENT
END:VCALENDAR
