BEGIN:VCALENDAR
VERSION:2.0
PRODID:icalendar-ruby
CALSCALE:GREGORIAN
METHOD:PUBLISH
BEGIN:VEVENT
DTSTAMP:20260423T133940Z
UID:31-884333@cornerstonemcminnville.org
DTSTART:20261207T000000Z
DTEND:20261207T010000Z
CLASS:PUBLIC
CREATED:20260409T144353
DESCRIPTION:
LAST-MODIFIED:20260409T144353
LOCATION:
SUMMARY:Business Meeting
URL;VALUE=URI:https://www.cornerstonemcminnville.org/events/business-meetin
 g/2026-12-06
END:VEVENT
END:VCALENDAR
