BEGIN:VCALENDAR
VERSION:2.0
PRODID:icalendar-ruby
CALSCALE:GREGORIAN
METHOD:PUBLISH
BEGIN:VEVENT
DTSTAMP:20260423T110357Z
UID:31-884331@cornerstonemcminnville.org
DTSTART:20260830T230000Z
DTEND:20260831T000000Z
CLASS:PUBLIC
CREATED:20260409T144353
DESCRIPTION:
LAST-MODIFIED:20260409T144353
LOCATION:
SUMMARY:Business Meeting
URL;VALUE=URI:https://www.cornerstonemcminnville.org/events/business-meetin
 g/2026-08-30
END:VEVENT
END:VCALENDAR
