BEGIN:VCALENDAR
VERSION:2.0
PRODID:icalendar-ruby
CALSCALE:GREGORIAN
METHOD:PUBLISH
BEGIN:VEVENT
DTSTAMP:20260423T082920Z
UID:31-884329@cornerstonemcminnville.org
DTSTART:20260419T230000Z
DTEND:20260420T000000Z
CLASS:PUBLIC
CREATED:20260409T144353
DESCRIPTION:
LAST-MODIFIED:20260409T144353
LOCATION:
SUMMARY:Business Meeting
URL;VALUE=URI:https://www.cornerstonemcminnville.org/events/business-meetin
 g/2026-04-19
END:VEVENT
END:VCALENDAR
